BEGIN:VCALENDAR
VERSION:2.0
PRODID:-//Plaza Mariachi - ECPv6.15.17.1//NONSGML v1.0//EN
CALSCALE:GREGORIAN
METHOD:PUBLISH
X-WR-CALNAME:Plaza Mariachi
X-ORIGINAL-URL:https://plazamariachi.com
X-WR-CALDESC:Events for Plaza Mariachi
REFRESH-INTERVAL;VALUE=DURATION:PT1H
X-Robots-Tag:noindex
X-PUBLISHED-TTL:PT1H
BEGIN:VTIMEZONE
TZID:America/Chicago
BEGIN:DAYLIGHT
TZOFFSETFROM:-0600
TZOFFSETTO:-0500
TZNAME:CDT
DTSTART:20250309T080000
END:DAYLIGHT
BEGIN:STANDARD
TZOFFSETFROM:-0500
TZOFFSETTO:-0600
TZNAME:CST
DTSTART:20251102T070000
END:STANDARD
BEGIN:DAYLIGHT
TZOFFSETFROM:-0600
TZOFFSETTO:-0500
TZNAME:CDT
DTSTART:20260308T080000
END:DAYLIGHT
BEGIN:STANDARD
TZOFFSETFROM:-0500
TZOFFSETTO:-0600
TZNAME:CST
DTSTART:20261101T070000
END:STANDARD
BEGIN:DAYLIGHT
TZOFFSETFROM:-0600
TZOFFSETTO:-0500
TZNAME:CDT
DTSTART:20270314T080000
END:DAYLIGHT
BEGIN:STANDARD
TZOFFSETFROM:-0500
TZOFFSETTO:-0600
TZNAME:CST
DTSTART:20271107T070000
END:STANDARD
END:VTIMEZONE
BEGIN:VEVENT
DTSTART;TZID=America/Chicago:20260312T210000
DTEND;TZID=America/Chicago:20260313T000000
DTSTAMP:20260419T115648
CREATED:20260228T235324Z
LAST-MODIFIED:20260301T020815Z
UID:33372-1773349200-1773360000@plazamariachi.com
SUMMARY:Concierto: Jessi Uribe – Repítela Tour 2026
DESCRIPTION:🎤 Jessi Uribe – Repítela Tour 2026 🎤📅 Thursday\, March 12 \nPlaza Mariachi Music City is proud to welcome Jessi Uribe to Nashville for an unforgettable night of regional Mexican music on his highly anticipated Repítela Tour 2026 – USA. \nKnown for his powerful voice\, emotional performances\, and chart-topping hits\, Jessi Uribe has become one of the most recognized artists in música popular and regional Latin music. From heartfelt rancheras to crowd-favorite anthems\, this is your chance to experience his energy and passion live on stage. \nGet ready for a night filled with powerful vocals\, sing-along moments\, and nonstop excitement as Jessi Uribe brings his tour to Plaza Mariachi. \n🎧 Featuring:DJ Chilango – La Mezcla Perfecta \n🎟 Ticket Information:Presale: $50Tickets available at Ticketon.com \n📅 Thursday\, March 12⏰ Doors Open: 9:00 PM📍 Plaza Mariachi3955 Nolensville Pike\, Nashville\, TN 37211 \nDon’t miss one of the biggest regional concerts of the season — Jessi Uribe live in Nashville for the Repítela Tour 2026. Secure your tickets and be part of an unforgettable night at Plaza Mariachi.
URL:https://plazamariachi.com/event/concierto-jessi-uribe-repitela-tour-2026/
LOCATION:Plaza Mariachi Music City\, 3955 Nolensville Pike\, Nashville\, TN\, 37211\, United States
CATEGORIES:Live Music,Regional Mexican Music
ATTACH;FMTTYPE=image/jpeg:https://plazamariachi.com/wp-content/uploads/2026/02/jessi_u_12marzo_fb_.jpeg
GEO:36.084811;-86.73018
X-APPLE-STRUCTURED-LOCATION;VALUE=URI;X-ADDRESS=Plaza Mariachi Music City 3955 Nolensville Pike Nashville TN 37211 United States;X-APPLE-RADIUS=500;X-TITLE=3955 Nolensville Pike:geo:-86.73018,36.084811
END:VEVENT
END:VCALENDAR