BEGIN:VCALENDAR
VERSION:2.0
PRODID:-//Plaza Mariachi - ECPv6.15.17.1//NONSGML v1.0//EN
CALSCALE:GREGORIAN
METHOD:PUBLISH
X-WR-CALNAME:Plaza Mariachi
X-ORIGINAL-URL:https://plazamariachi.com
X-WR-CALDESC:Events for Plaza Mariachi
REFRESH-INTERVAL;VALUE=DURATION:PT1H
X-Robots-Tag:noindex
X-PUBLISHED-TTL:PT1H
BEGIN:VTIMEZONE
TZID:America/Chicago
BEGIN:DAYLIGHT
TZOFFSETFROM:-0600
TZOFFSETTO:-0500
TZNAME:CDT
DTSTART:20250309T080000
END:DAYLIGHT
BEGIN:STANDARD
TZOFFSETFROM:-0500
TZOFFSETTO:-0600
TZNAME:CST
DTSTART:20251102T070000
END:STANDARD
BEGIN:DAYLIGHT
TZOFFSETFROM:-0600
TZOFFSETTO:-0500
TZNAME:CDT
DTSTART:20260308T080000
END:DAYLIGHT
BEGIN:STANDARD
TZOFFSETFROM:-0500
TZOFFSETTO:-0600
TZNAME:CST
DTSTART:20261101T070000
END:STANDARD
BEGIN:DAYLIGHT
TZOFFSETFROM:-0600
TZOFFSETTO:-0500
TZNAME:CDT
DTSTART:20270314T080000
END:DAYLIGHT
BEGIN:STANDARD
TZOFFSETFROM:-0500
TZOFFSETTO:-0600
TZNAME:CST
DTSTART:20271107T070000
END:STANDARD
END:VTIMEZONE
BEGIN:VEVENT
DTSTART;TZID=America/Chicago:20260521T210000
DTEND;TZID=America/Chicago:20260522T020000
DTSTAMP:20260420T051852
CREATED:20260419T004818Z
LAST-MODIFIED:20260419T004818Z
UID:33988-1779397200-1779415200@plazamariachi.com
SUMMARY:Concierto: Alzate – USA Tour 2026
DESCRIPTION:Get ready for a night full of music and emotion at Plaza Mariachi as Alzate – USA Tour 2026 comes to Nashville. \nAlzate is known for his powerful voice and emotional songs that connect with the audience. His music tells stories of love\, heartbreak\, and real-life experiences that people can relate to and sing along with. From well-known songs like “Me Volviste Un Borracho” to “Maldita La Hora\,” this is a performance made to feel\, sing\, and enjoy. \nExpect a high-energy show\, a crowd singing every song\, and a night full of feeling from beginning to end. \nThe night also includes music by DJ Chilango – La Mezcla Perfecta and DJ Exquisite\, playing Latin hits and popular songs before and after the concert. \n🎤 Live Performance: Alzate🎧 Music by: DJ Chilango – La Mezcla Perfecta & DJ Exquisite🔥 Latin Music • Live Concert • Dance Floor💃 Music and dancing all night \n🎟 Tickets: Available soon \n📅 Thursday\, May 21⏰ 9:00 PM📍 Plaza Mariachi — 3955 Nolensville Pike\, Nashville\, TN 37211 \nJoin us for a night of music\, emotion\, and live entertainment at Plaza Mariachi.
URL:https://plazamariachi.com/event/concierto-alzate-usa-tour-2026/
LOCATION:Plaza Mariachi Music City\, 3955 Nolensville Pike\, Nashville\, TN\, 37211\, United States
CATEGORIES:Latin Music,Live Music
ATTACH;FMTTYPE=image/jpeg:https://plazamariachi.com/wp-content/uploads/2026/04/Alzate-21-mayo-fb-.jpeg
GEO:36.084811;-86.73018
X-APPLE-STRUCTURED-LOCATION;VALUE=URI;X-ADDRESS=Plaza Mariachi Music City 3955 Nolensville Pike Nashville TN 37211 United States;X-APPLE-RADIUS=500;X-TITLE=3955 Nolensville Pike:geo:-86.73018,36.084811
END:VEVENT
END:VCALENDAR