BEGIN:VCALENDAR
VERSION:2.0
PRODID:-//Plaza Mariachi - ECPv6.15.17.1//NONSGML v1.0//EN
CALSCALE:GREGORIAN
METHOD:PUBLISH
X-WR-CALNAME:Plaza Mariachi
X-ORIGINAL-URL:https://plazamariachi.com
X-WR-CALDESC:Events for Plaza Mariachi
REFRESH-INTERVAL;VALUE=DURATION:PT1H
X-Robots-Tag:noindex
X-PUBLISHED-TTL:PT1H
BEGIN:VTIMEZONE
TZID:America/Chicago
BEGIN:DAYLIGHT
TZOFFSETFROM:-0600
TZOFFSETTO:-0500
TZNAME:CDT
DTSTART:20240310T080000
END:DAYLIGHT
BEGIN:STANDARD
TZOFFSETFROM:-0500
TZOFFSETTO:-0600
TZNAME:CST
DTSTART:20241103T070000
END:STANDARD
BEGIN:DAYLIGHT
TZOFFSETFROM:-0600
TZOFFSETTO:-0500
TZNAME:CDT
DTSTART:20250309T080000
END:DAYLIGHT
BEGIN:STANDARD
TZOFFSETFROM:-0500
TZOFFSETTO:-0600
TZNAME:CST
DTSTART:20251102T070000
END:STANDARD
BEGIN:DAYLIGHT
TZOFFSETFROM:-0600
TZOFFSETTO:-0500
TZNAME:CDT
DTSTART:20260308T080000
END:DAYLIGHT
BEGIN:STANDARD
TZOFFSETFROM:-0500
TZOFFSETTO:-0600
TZNAME:CST
DTSTART:20261101T070000
END:STANDARD
END:VTIMEZONE
BEGIN:VEVENT
DTSTART;TZID=America/Chicago:20250712T213000
DTEND;TZID=America/Chicago:20250713T020000
DTSTAMP:20260424T055758
CREATED:20250701T221329Z
LAST-MODIFIED:20250708T185834Z
UID:30276-1752355800-1752372000@plazamariachi.com
SUMMARY:Concierto: Luis Angel el Flaco y Dareyes DLS
DESCRIPTION:¡No te quedes fuera de la experiencia de un concierto en vivo que te hará vibrar de principio a fin! Siente la adrenalina de un grandioso espectáculo con Luis Angel El Flaco y Dareyes DLS. Este acto de música regional será un festival de ritmos y alegría\, con la esencia que solo se puede vivir en un evento en vivo. ¡Prepárate para una noche para recordar en la Plaza Mariachi de Nashville\, TN! ¡La música en vivo de estos artistas en concierto provocará una euforia inigualable! Luis Angel El Flaco\, junto a Dareyes DLS\, te darán la mejor experiencia musical en este inolvidable show\, interpretando sus grandes éxitos que te harán bailar al ritmo del corazón. Sumérgete en la ola de emociones que solo un concierto en vivo puede ofrecer. ¡Adquiere tus boletos y no te lo puedes perder! Este espectáculo promete subir la temperatura de la noche\, y las boletos están volando. Con la restricción de edad de 18 años\, prevalecerá un ambiente lleno de energía y espíritu juvenil. Si te apasiona la buena música en directo\, ya sabes dónde estar. Corre la voz y asegura tu boleto antes de que sea demasiado tarde. Las mejores noches no se planean\, se viven. No te quedes sin tu boleto y vive este evento único como nunca. Date prisa\, no querrás ser el único que se quedó sin vivir esta increíble experiencia. Asegura tu lugar para disfrutar de una noche llena de ritmo\, música y emoción. ¡Compra ahora tus boletos en Ticketón! Da el paso\, asegura tu lugar en este tremendo espectáculo musical y vive la emoción de este concierto. ¡No te pierdas este evento único\, consigue tu boleto ya que están volando! Recuerda\, los mejores eventos se viven en Ticketón. ¡Nos vemos ahí! \nPuertas Abren 9:30pm \nSabado\, 12 de Julio \nObtener Boletos \nReserva Tu Mesa VIP: (615)709-3159
URL:https://plazamariachi.com/event/concerto-luis-angel-el-flaco-y-dareyes-dls/
LOCATION:Plaza Mariachi Music City\, 3955 Nolensville Pike\, Nashville\, TN\, 37211\, United States
CATEGORIES:Live Music
ATTACH;FMTTYPE=image/jpeg:https://plazamariachi.com/wp-content/uploads/2025/07/LUIS-ANGEL-JUL-12-FB-3.jpg
GEO:36.084811;-86.73018
X-APPLE-STRUCTURED-LOCATION;VALUE=URI;X-ADDRESS=Plaza Mariachi Music City 3955 Nolensville Pike Nashville TN 37211 United States;X-APPLE-RADIUS=500;X-TITLE=3955 Nolensville Pike:geo:-86.73018,36.084811
END:VEVENT
END:VCALENDAR