BEGIN:VCALENDAR
VERSION:2.0
PRODID:-//Plaza Mariachi - ECPv6.15.17.1//NONSGML v1.0//EN
CALSCALE:GREGORIAN
METHOD:PUBLISH
X-WR-CALNAME:Plaza Mariachi
X-ORIGINAL-URL:https://plazamariachi.com
X-WR-CALDESC:Events for Plaza Mariachi
REFRESH-INTERVAL;VALUE=DURATION:PT1H
X-Robots-Tag:noindex
X-PUBLISHED-TTL:PT1H
BEGIN:VTIMEZONE
TZID:America/Chicago
BEGIN:DAYLIGHT
TZOFFSETFROM:-0600
TZOFFSETTO:-0500
TZNAME:CDT
DTSTART:20230312T080000
END:DAYLIGHT
BEGIN:STANDARD
TZOFFSETFROM:-0500
TZOFFSETTO:-0600
TZNAME:CST
DTSTART:20231105T070000
END:STANDARD
BEGIN:DAYLIGHT
TZOFFSETFROM:-0600
TZOFFSETTO:-0500
TZNAME:CDT
DTSTART:20240310T080000
END:DAYLIGHT
BEGIN:STANDARD
TZOFFSETFROM:-0500
TZOFFSETTO:-0600
TZNAME:CST
DTSTART:20241103T070000
END:STANDARD
BEGIN:DAYLIGHT
TZOFFSETFROM:-0600
TZOFFSETTO:-0500
TZNAME:CDT
DTSTART:20250309T080000
END:DAYLIGHT
BEGIN:STANDARD
TZOFFSETFROM:-0500
TZOFFSETTO:-0600
TZNAME:CST
DTSTART:20251102T070000
END:STANDARD
END:VTIMEZONE
BEGIN:VEVENT
DTSTART;TZID=America/Chicago:20241130T190000
DTEND;TZID=America/Chicago:20241130T210000
DTSTAMP:20260424T203641
CREATED:20241115T200550Z
LAST-MODIFIED:20241115T200550Z
UID:28928-1732993200-1733000400@plazamariachi.com
SUMMARY:Comedy Live
DESCRIPTION:Get ready for a night of laughs and great humor at Plaza Mariachi! This Saturday\, November 30th\, Comedy Live in Xenote is bringing you the best comedians in the game! \nHost Antoine Baynes will kick things off with his unique style\, followed by the hilarious Dee Chatman and Comedian Just Will\, who will leave you in stitches! \n📅 Saturday\, November 30th Doors open at 7 PM\, and the show starts at 7:30 PM. FREE ENTRY! \nDon’t miss out! Bring your friends and get ready to laugh out loud.\nSee you there for a night of non-stop fun!
URL:https://plazamariachi.com/event/comedy-live/
LOCATION:Xenote (Plaza Mariachi’s Private Event Space)\, 3955 Nolensville Pike\, Nashville\, TN\, 37211\, United States
CATEGORIES:Comedy
ATTACH;FMTTYPE=image/jpeg:https://plazamariachi.com/wp-content/uploads/2024/11/Comedy-Live-NOV-30-FB.jpg
END:VEVENT
END:VCALENDAR