BEGIN:VCALENDAR
VERSION:2.0
PRODID:-//Plaza Mariachi - ECPv6.15.17.1//NONSGML v1.0//EN
CALSCALE:GREGORIAN
METHOD:PUBLISH
X-WR-CALNAME:Plaza Mariachi
X-ORIGINAL-URL:https://plazamariachi.com
X-WR-CALDESC:Events for Plaza Mariachi
REFRESH-INTERVAL;VALUE=DURATION:PT1H
X-Robots-Tag:noindex
X-PUBLISHED-TTL:PT1H
BEGIN:VTIMEZONE
TZID:America/Chicago
BEGIN:DAYLIGHT
TZOFFSETFROM:-0600
TZOFFSETTO:-0500
TZNAME:CDT
DTSTART:20230312T080000
END:DAYLIGHT
BEGIN:STANDARD
TZOFFSETFROM:-0500
TZOFFSETTO:-0600
TZNAME:CST
DTSTART:20231105T070000
END:STANDARD
BEGIN:DAYLIGHT
TZOFFSETFROM:-0600
TZOFFSETTO:-0500
TZNAME:CDT
DTSTART:20240310T080000
END:DAYLIGHT
BEGIN:STANDARD
TZOFFSETFROM:-0500
TZOFFSETTO:-0600
TZNAME:CST
DTSTART:20241103T070000
END:STANDARD
BEGIN:DAYLIGHT
TZOFFSETFROM:-0600
TZOFFSETTO:-0500
TZNAME:CDT
DTSTART:20250309T080000
END:DAYLIGHT
BEGIN:STANDARD
TZOFFSETFROM:-0500
TZOFFSETTO:-0600
TZNAME:CST
DTSTART:20251102T070000
END:STANDARD
END:VTIMEZONE
BEGIN:VEVENT
DTSTART;TZID=America/Chicago:20240615T160000
DTEND;TZID=America/Chicago:20240615T180000
DTSTAMP:20260421T135752
CREATED:20240611T221448Z
LAST-MODIFIED:20240611T221448Z
UID:28111-1718467200-1718474400@plazamariachi.com
SUMMARY:Colombia vs Bolivia
DESCRIPTION:Attention Soccer Fans! ⚽🎉\nThis Saturday\, June 15th\, come to Plaza Mariachi Music City and experience the excitement of the Colombia vs. Bolivia match live. You can’t miss this! 📅 \n🕓 Time: 4pm\n📍 Location: 3955 Nolensville Pike\, Nashville\, TN 37211 \nCome and support your favorite team while enjoying an incredible atmosphere full of energy and football passion. It will be an epic event! \n¡Atención fanáticos del fútbol! ⚽🎉 Este sábado 15 de junio\, ven a Plaza Mariachi Music City y vive la emoción del partido Colombia vs Bolivia en vivo. ¡No te lo puedes perder! 📅\n🕓 Hora: 4pm\n📍 Lugar: 3955 Nolensville Pike\, Nashville\, TN 37211\nVen y apoya a tu equipo favorito mientras disfrutas de un ambiente increíble\, lleno de energía y pasión futbolística. ¡Será un evento épico!
URL:https://plazamariachi.com/event/colombia-vs-bolivia/
LOCATION:Plaza Mariachi Music City\, 3955 Nolensville Pike\, Nashville\, TN\, 37211\, United States
CATEGORIES:Sports
ATTACH;FMTTYPE=image/jpeg:https://plazamariachi.com/wp-content/uploads/2024/06/COL-VS-BOL-JUN-15-FB.jpg
GEO:36.084811;-86.73018
X-APPLE-STRUCTURED-LOCATION;VALUE=URI;X-ADDRESS=Plaza Mariachi Music City 3955 Nolensville Pike Nashville TN 37211 United States;X-APPLE-RADIUS=500;X-TITLE=3955 Nolensville Pike:geo:-86.73018,36.084811
END:VEVENT
END:VCALENDAR