BEGIN:VCALENDAR
VERSION:2.0
PRODID:-//Plaza Mariachi - ECPv6.15.17.1//NONSGML v1.0//EN
CALSCALE:GREGORIAN
METHOD:PUBLISH
X-WR-CALNAME:Plaza Mariachi
X-ORIGINAL-URL:https://plazamariachi.com
X-WR-CALDESC:Events for Plaza Mariachi
REFRESH-INTERVAL;VALUE=DURATION:PT1H
X-Robots-Tag:noindex
X-PUBLISHED-TTL:PT1H
BEGIN:VTIMEZONE
TZID:America/Chicago
BEGIN:DAYLIGHT
TZOFFSETFROM:-0600
TZOFFSETTO:-0500
TZNAME:CDT
DTSTART:20250309T080000
END:DAYLIGHT
BEGIN:STANDARD
TZOFFSETFROM:-0500
TZOFFSETTO:-0600
TZNAME:CST
DTSTART:20251102T070000
END:STANDARD
BEGIN:DAYLIGHT
TZOFFSETFROM:-0600
TZOFFSETTO:-0500
TZNAME:CDT
DTSTART:20260308T080000
END:DAYLIGHT
BEGIN:STANDARD
TZOFFSETFROM:-0500
TZOFFSETTO:-0600
TZNAME:CST
DTSTART:20261101T070000
END:STANDARD
BEGIN:DAYLIGHT
TZOFFSETFROM:-0600
TZOFFSETTO:-0500
TZNAME:CDT
DTSTART:20270314T080000
END:DAYLIGHT
BEGIN:STANDARD
TZOFFSETFROM:-0500
TZOFFSETTO:-0600
TZNAME:CST
DTSTART:20271107T070000
END:STANDARD
END:VTIMEZONE
BEGIN:VEVENT
DTSTART;TZID=America/Chicago:20260310T123000
DTEND;TZID=America/Chicago:20260310T180000
DTSTAMP:20260423T075431
CREATED:20260307T222327Z
LAST-MODIFIED:20260307T222446Z
UID:33435-1773145800-1773165600@plazamariachi.com
SUMMARY:Champions League Watch Party
DESCRIPTION:⚽🔥 CHAMPIONS LEAGUE WATCH PARTY 🔥⚽WATCH IT HERE at Plaza Mariachi! \nEurope’s biggest clubs. One place to watch it all. \nJoin us at Plaza Mariachi as we stream multiple UEFA Champions League matchups live on the big screens. Grab a table\, enjoy the atmosphere\, and catch every goal with fellow soccer fans. \n🏆 Matchups Showing: \n⚽ Galatasaray vs Liverpool — 12:45 PM⚽ Newcastle vs Barcelona — 3:00 PM⚽ Atalanta vs Bayern Munich — 3:00 PM⚽ Atlético Madrid vs Tottenham — 3:00 PM \n📅 Tuesday\, March 10📍 Plaza Mariachi Music City3955 Nolensville Pike\, Nashville\, TN 37211 \nBig screens\, great food\, cold drinks\, and one of the best soccer atmospheres in Nashville. Bring your crew and catch all the Champions League action live at Plaza Mariachi. ⚽🔥
URL:https://plazamariachi.com/event/champions-league-watch-party-3-10-26/
LOCATION:Plaza Sports Bar\, 3955 Nolensville Pike\, Nashville\, TN\, 37211\, United States
CATEGORIES:Sports
ATTACH;FMTTYPE=image/png:https://plazamariachi.com/wp-content/uploads/2026/03/champions_mar_10_fb_.png
END:VEVENT
END:VCALENDAR