BEGIN:VCALENDAR
VERSION:2.0
PRODID:-//Plaza Mariachi - ECPv6.15.17.1//NONSGML v1.0//EN
CALSCALE:GREGORIAN
METHOD:PUBLISH
X-WR-CALNAME:Plaza Mariachi
X-ORIGINAL-URL:https://plazamariachi.com
X-WR-CALDESC:Events for Plaza Mariachi
REFRESH-INTERVAL;VALUE=DURATION:PT1H
X-Robots-Tag:noindex
X-PUBLISHED-TTL:PT1H
BEGIN:VTIMEZONE
TZID:America/Chicago
BEGIN:DAYLIGHT
TZOFFSETFROM:-0600
TZOFFSETTO:-0500
TZNAME:CDT
DTSTART:20240310T080000
END:DAYLIGHT
BEGIN:STANDARD
TZOFFSETFROM:-0500
TZOFFSETTO:-0600
TZNAME:CST
DTSTART:20241103T070000
END:STANDARD
BEGIN:DAYLIGHT
TZOFFSETFROM:-0600
TZOFFSETTO:-0500
TZNAME:CDT
DTSTART:20250309T080000
END:DAYLIGHT
BEGIN:STANDARD
TZOFFSETFROM:-0500
TZOFFSETTO:-0600
TZNAME:CST
DTSTART:20251102T070000
END:STANDARD
BEGIN:DAYLIGHT
TZOFFSETFROM:-0600
TZOFFSETTO:-0500
TZNAME:CDT
DTSTART:20260308T080000
END:DAYLIGHT
BEGIN:STANDARD
TZOFFSETFROM:-0500
TZOFFSETTO:-0600
TZNAME:CST
DTSTART:20261101T070000
END:STANDARD
END:VTIMEZONE
BEGIN:VEVENT
DTSTART;TZID=America/Chicago:20250216T213000
DTEND;TZID=America/Chicago:20250216T220000
DTSTAMP:20260424T012921
CREATED:20250217T000004Z
LAST-MODIFIED:20250217T000004Z
UID:29368-1739741400-1739743200@plazamariachi.com
SUMMARY:Carín León
DESCRIPTION:🎉 SURPRISE APPEARANCE TONIGHT at Plaza Mariachi! 🎶🔥 \nWe have an incredible last-minute surprise for you! 🌟 One of the biggest stars in Regional Mexican music\, Carín León\, will be making a special surprise appearance TONIGHT (Sunday\, February 16\, 2025) at Plaza Mariachi! 🎤🎶 \nAt 9:30 PM\, Carín León will take the stage for an exclusive performance\, bringing his signature voice and unforgettable energy to Nashville for one night only! This event is completely FREE to attend\, so gather your friends and get ready for an unforgettable night! \n🚨 Event Rules: \n✅ No backpacks or large bags \n✅ No outside food or drinks allowed \n⏳ The secret is out at 6 PM! Spread the word and arrive early—space will fill up fast! See you tonight for this once-in-a-lifetime surprise! 🎶
URL:https://plazamariachi.com/event/carin-leon/
LOCATION:Plaza Mariachi Music City\, 3955 Nolensville Pike\, Nashville\, TN\, 37211\, United States
CATEGORIES:Regional Mexican Music
ATTACH;FMTTYPE=image/jpeg:https://plazamariachi.com/wp-content/uploads/2025/02/CARIN-FEB-16-FB.jpg
GEO:36.084811;-86.73018
X-APPLE-STRUCTURED-LOCATION;VALUE=URI;X-ADDRESS=Plaza Mariachi Music City 3955 Nolensville Pike Nashville TN 37211 United States;X-APPLE-RADIUS=500;X-TITLE=3955 Nolensville Pike:geo:-86.73018,36.084811
END:VEVENT
END:VCALENDAR