BEGIN:VCALENDAR
VERSION:2.0
PRODID:-//Plaza Mariachi - ECPv6.15.17.1//NONSGML v1.0//EN
CALSCALE:GREGORIAN
METHOD:PUBLISH
X-WR-CALNAME:Plaza Mariachi
X-ORIGINAL-URL:https://plazamariachi.com
X-WR-CALDESC:Events for Plaza Mariachi
REFRESH-INTERVAL;VALUE=DURATION:PT1H
X-Robots-Tag:noindex
X-PUBLISHED-TTL:PT1H
BEGIN:VTIMEZONE
TZID:America/Chicago
BEGIN:DAYLIGHT
TZOFFSETFROM:-0600
TZOFFSETTO:-0500
TZNAME:CDT
DTSTART:20240310T080000
END:DAYLIGHT
BEGIN:STANDARD
TZOFFSETFROM:-0500
TZOFFSETTO:-0600
TZNAME:CST
DTSTART:20241103T070000
END:STANDARD
BEGIN:DAYLIGHT
TZOFFSETFROM:-0600
TZOFFSETTO:-0500
TZNAME:CDT
DTSTART:20250309T080000
END:DAYLIGHT
BEGIN:STANDARD
TZOFFSETFROM:-0500
TZOFFSETTO:-0600
TZNAME:CST
DTSTART:20251102T070000
END:STANDARD
BEGIN:DAYLIGHT
TZOFFSETFROM:-0600
TZOFFSETTO:-0500
TZNAME:CDT
DTSTART:20260308T080000
END:DAYLIGHT
BEGIN:STANDARD
TZOFFSETFROM:-0500
TZOFFSETTO:-0600
TZNAME:CST
DTSTART:20261101T070000
END:STANDARD
END:VTIMEZONE
BEGIN:VEVENT
DTSTART;TZID=America/Chicago:20251129T220000
DTEND;TZID=America/Chicago:20251130T020000
DTSTAMP:20260421T135732
CREATED:20251029T000320Z
LAST-MODIFIED:20251122T201527Z
UID:31872-1764453600-1764468000@plazamariachi.com
SUMMARY:Bailamos
DESCRIPTION:Feel the passion\, rhythm\, and soul of Latin music at “Bailamos” — Nashville’s hottest Saturday night dance party featuring  DJ EL JAS! 🎧🔥 This weekly celebration brings the sounds of Latin America straight to the heart of Music City. \nDance the night away to an irresistible mix of Reggaeton\, Salsa\, Bachata\, and Merengue\, spun by DJ EL JAS\, one of the city’s favorite Latin DJs. The energy is contagious — all that’s missing is you on the dance floor! \n📅 Date: Saturday\, November 29\, 2025🕙 Time: 10:00 PM – 2:00 AM📍 Location: Plaza Mariachi\, 3955 Nolensville Pike\, Nashville\, TN 37211 \nSee you on the dance floor at “Bailamos!” 💃🕺
URL:https://plazamariachi.com/event/bailamos-11-29-25/
LOCATION:Plaza Mariachi Music City\, 3955 Nolensville Pike\, Nashville\, TN\, 37211\, United States
CATEGORIES:Dance
ATTACH;FMTTYPE=image/jpeg:https://plazamariachi.com/wp-content/uploads/2025/10/bailamos_29_nov_fb_.jpg
GEO:36.084811;-86.73018
X-APPLE-STRUCTURED-LOCATION;VALUE=URI;X-ADDRESS=Plaza Mariachi Music City 3955 Nolensville Pike Nashville TN 37211 United States;X-APPLE-RADIUS=500;X-TITLE=3955 Nolensville Pike:geo:-86.73018,36.084811
END:VEVENT
END:VCALENDAR