BEGIN:VCALENDAR
VERSION:2.0
PRODID:-//Plaza Mariachi - ECPv6.15.17.1//NONSGML v1.0//EN
CALSCALE:GREGORIAN
METHOD:PUBLISH
X-WR-CALNAME:Plaza Mariachi
X-ORIGINAL-URL:https://plazamariachi.com
X-WR-CALDESC:Events for Plaza Mariachi
REFRESH-INTERVAL;VALUE=DURATION:PT1H
X-Robots-Tag:noindex
X-PUBLISHED-TTL:PT1H
BEGIN:VTIMEZONE
TZID:America/Chicago
BEGIN:DAYLIGHT
TZOFFSETFROM:-0600
TZOFFSETTO:-0500
TZNAME:CDT
DTSTART:20230312T080000
END:DAYLIGHT
BEGIN:STANDARD
TZOFFSETFROM:-0500
TZOFFSETTO:-0600
TZNAME:CST
DTSTART:20231105T070000
END:STANDARD
BEGIN:DAYLIGHT
TZOFFSETFROM:-0600
TZOFFSETTO:-0500
TZNAME:CDT
DTSTART:20240310T080000
END:DAYLIGHT
BEGIN:STANDARD
TZOFFSETFROM:-0500
TZOFFSETTO:-0600
TZNAME:CST
DTSTART:20241103T070000
END:STANDARD
BEGIN:DAYLIGHT
TZOFFSETFROM:-0600
TZOFFSETTO:-0500
TZNAME:CDT
DTSTART:20250309T080000
END:DAYLIGHT
BEGIN:STANDARD
TZOFFSETFROM:-0500
TZOFFSETTO:-0600
TZNAME:CST
DTSTART:20251102T070000
END:STANDARD
END:VTIMEZONE
BEGIN:VEVENT
DTSTART;TZID=America/Chicago:20240621T153000
DTEND;TZID=America/Chicago:20240621T173000
DTSTAMP:20260423T093812
CREATED:20240618T210500Z
LAST-MODIFIED:20240618T210500Z
UID:28134-1718983800-1718991000@plazamariachi.com
SUMMARY:Alison Brazil - Make Music Nashville
DESCRIPTION:Experience the mesmerizing performance of Alison Brazil as part of “Make Music Nashville” at Plaza Mariachi!\nAlison Brazil\, an international singer-songwriter\, captivates audiences with her music in English\, Spanish\, and French\, breaking down international barriers. Hailing from Louisiana\, Alison has enchanted listeners across North\, Central\, and South America\, as well as Asia\, with her unique blend of storytelling pop and her powerhouse voice. Her deeply seasoned soul music\, influenced by her global travels and encounters\, delivers a distinctive Louisiana Latin flair that connects\, inspires\, and energizes all who hear it. Don’t miss this opportunity to be part of Alison Brazil’s extraordinary musical journey.
URL:https://plazamariachi.com/event/alison-brazil-make-music-nashville/
LOCATION:Plaza Mariachi Music City\, 3955 Nolensville Pike\, Nashville\, TN\, 37211\, United States
CATEGORIES:Live Music
ATTACH;FMTTYPE=image/jpeg:https://plazamariachi.com/wp-content/uploads/2019/01/Alison-Brazil-Press-2017-2-e1580512709105.jpg
GEO:36.084811;-86.73018
X-APPLE-STRUCTURED-LOCATION;VALUE=URI;X-ADDRESS=Plaza Mariachi Music City 3955 Nolensville Pike Nashville TN 37211 United States;X-APPLE-RADIUS=500;X-TITLE=3955 Nolensville Pike:geo:-86.73018,36.084811
END:VEVENT
END:VCALENDAR