BEGIN:VCALENDAR
VERSION:2.0
PRODID:-//Plaza Mariachi - ECPv6.15.17.1//NONSGML v1.0//EN
CALSCALE:GREGORIAN
METHOD:PUBLISH
X-WR-CALNAME:Plaza Mariachi
X-ORIGINAL-URL:https://plazamariachi.com
X-WR-CALDESC:Events for Plaza Mariachi
REFRESH-INTERVAL;VALUE=DURATION:PT1H
X-Robots-Tag:noindex
X-PUBLISHED-TTL:PT1H
BEGIN:VTIMEZONE
TZID:America/Chicago
BEGIN:DAYLIGHT
TZOFFSETFROM:-0600
TZOFFSETTO:-0500
TZNAME:CDT
DTSTART:20240310T080000
END:DAYLIGHT
BEGIN:STANDARD
TZOFFSETFROM:-0500
TZOFFSETTO:-0600
TZNAME:CST
DTSTART:20241103T070000
END:STANDARD
BEGIN:DAYLIGHT
TZOFFSETFROM:-0600
TZOFFSETTO:-0500
TZNAME:CDT
DTSTART:20250309T080000
END:DAYLIGHT
BEGIN:STANDARD
TZOFFSETFROM:-0500
TZOFFSETTO:-0600
TZNAME:CST
DTSTART:20251102T070000
END:STANDARD
BEGIN:DAYLIGHT
TZOFFSETFROM:-0600
TZOFFSETTO:-0500
TZNAME:CDT
DTSTART:20260308T080000
END:DAYLIGHT
BEGIN:STANDARD
TZOFFSETFROM:-0500
TZOFFSETTO:-0600
TZNAME:CST
DTSTART:20261101T070000
END:STANDARD
END:VTIMEZONE
BEGIN:VEVENT
DTSTART;TZID=America/Chicago:20250621T130000
DTEND;TZID=America/Chicago:20250621T160000
DTSTAMP:20260423T093323
CREATED:20250530T200332Z
LAST-MODIFIED:20250530T200411Z
UID:10007804-1750510800-1750521600@plazamariachi.com
SUMMARY:Adventures of the Sea Kid's Party
DESCRIPTION:🌊 Adventures of the Sea at Plaza Mariachi! 🏴‍☠️👑\nEvery Saturday in June | 1 PM – 4 PM\n📍 Plaza Mariachi | 3955 Nolensville Pike\, Nashville\, TN \nSet sail on an unforgettable journey every Saturday in June with “Adventures of the Sea\,” a magical\, family-friendly event series at Plaza Mariachi! Each week from 1 PM to 4 PM\, kids can dive into a world of ocean-inspired fun with free activities that spark creativity and imagination. \n🧜‍♀️ Highlights include:\n• Story Time 📖\n• Arts & Crafts 🎨\n• Games and Contests 🏆\n• Princess Sing-Along 👸\n• Pirate Adventures ☠️\n• Dance Parties 💃\n• Character Photo Ops 📸\n…and so much more! \n🌴Whether you’re exploring with a mermaid\, singing with a Polynesian princess\, or hunting treasure with a pirate\, every Saturday promises a new adventure! \n🎟️ FREE ADMISSION – All Ages Welcome!\nPresented by Plaza Mariachi & Character Visits 4 U\nIn partnership with the Hispanic Family Foundation \nDon’t miss out—bring your little explorers for a sea of fun every Saturday in June! 🌊✨
URL:https://plazamariachi.com/event/adventures-of-the-sea-kids-party/2025-06-21/
LOCATION:Plaza Mariachi Music City\, 3955 Nolensville Pike\, Nashville\, TN\, 37211\, United States
CATEGORIES:Children's Entertainment and Events
ATTACH;FMTTYPE=image/jpeg:https://plazamariachi.com/wp-content/uploads/2025/05/KEAOTS-June.jpg
GEO:36.084811;-86.73018
X-APPLE-STRUCTURED-LOCATION;VALUE=URI;X-ADDRESS=Plaza Mariachi Music City 3955 Nolensville Pike Nashville TN 37211 United States;X-APPLE-RADIUS=500;X-TITLE=3955 Nolensville Pike:geo:-86.73018,36.084811
END:VEVENT
END:VCALENDAR